BEGIN:VCALENDAR
VERSION:2.0
PRODID:-//eventon.com NONSGML v1.0//EN
CALSCALE:GREGORIAN
METHOD:PUBLISH
BEGIN:VEVENT
UID:69e81b131f928
DTSTAMP:20260422T004923Z
DTSTART:20250118T140000Z
DTEND:20250119T045000Z
LOCATION:
SUMMARY:Prayer Ministry Small Group
DESCRIPTION:Have you ever wanted to know more about prayer or how to be mor
 e effective in your prayer life? The Prayer Ministry invites you to join th
 em for Rick Renner's five-part series on the Different Types of Prayer. The
  first lesson will be on Saturday\,  January 18th\,  at 9 AM[..]\nhttps://w
 ww.tolm.net/events/prayer-ministry-small-group/
URL:https://www.tolm.net/events/prayer-ministry-small-group/
END:VEVENT
END:VCALENDAR