BEGIN:VCALENDAR
VERSION:2.0
PRODID:-//eventon.com NONSGML v1.0//EN
CALSCALE:GREGORIAN
METHOD:PUBLISH
BEGIN:VEVENT
UID:69e87c7c55e80
DTSTAMP:20260422T074500Z
DTSTART:20250313T233000Z
DTEND:20250314T035000Z
LOCATION:
SUMMARY:Evening Service with Tony Suarez
DESCRIPTION:Join us for a special evening service on Thursday\,  March 1
 3th at 7:30 PM\,  as we welcome Pastor Tony Suarez\,  founder of Revivalm
 akers Ministries. His ministry has impacted thousands nationwide\,  bringin
 g a message of hope\,  healing\,  and revival to churches and communities. 
 Worship will be led by Matt Bartlett\,  making this a powerful night you[..
 ]\nhttps://www.tolm.net/events/evening-service-with-tony-suarez/
URL:https://www.tolm.net/events/evening-service-with-tony-suarez/
END:VEVENT
END:VCALENDAR